BEGIN:VCALENDAR
VERSION:2.0
PRODID:-//Built Environment Plus - ECPv6.15.20//NONSGML v1.0//EN
CALSCALE:GREGORIAN
METHOD:PUBLISH
X-WR-CALNAME:Built Environment Plus
X-ORIGINAL-URL:https://builtenvironmentplus.org
X-WR-CALDESC:Events for Built Environment Plus
REFRESH-INTERVAL;VALUE=DURATION:PT1H
X-Robots-Tag:noindex
X-PUBLISHED-TTL:PT1H
BEGIN:VTIMEZONE
TZID:America/New_York
BEGIN:DAYLIGHT
TZOFFSETFROM:-0500
TZOFFSETTO:-0400
TZNAME:EDT
DTSTART:20240310T070000
END:DAYLIGHT
BEGIN:STANDARD
TZOFFSETFROM:-0400
TZOFFSETTO:-0500
TZNAME:EST
DTSTART:20241103T060000
END:STANDARD
BEGIN:DAYLIGHT
TZOFFSETFROM:-0500
TZOFFSETTO:-0400
TZNAME:EDT
DTSTART:20250309T070000
END:DAYLIGHT
BEGIN:STANDARD
TZOFFSETFROM:-0400
TZOFFSETTO:-0500
TZNAME:EST
DTSTART:20251102T060000
END:STANDARD
BEGIN:DAYLIGHT
TZOFFSETFROM:-0500
TZOFFSETTO:-0400
TZNAME:EDT
DTSTART:20260308T070000
END:DAYLIGHT
BEGIN:STANDARD
TZOFFSETFROM:-0400
TZOFFSETTO:-0500
TZNAME:EST
DTSTART:20261101T060000
END:STANDARD
END:VTIMEZONE
BEGIN:VEVENT
DTSTART;TZID=America/New_York:20251114T110000
DTEND;TZID=America/New_York:20251114T120000
DTSTAMP:20260419T111126
CREATED:20250902T171904Z
LAST-MODIFIED:20251029T213353Z
UID:10002209-1763118000-1763121600@builtenvironmentplus.org
SUMMARY:Smarter Moisture Management for Healthier\, More Durable Buildings
DESCRIPTION:Discover how new material technologies can reduce HVAC loads\, improve durability\, and create healthier indoor environments by managing moisture more intelligently. Learn practical approaches to addressing condensation and humidity challenges—and explore design strategies that adapt to changing conditions for long-term building performance. This session is led by Derek Stein from Adept Materials. \nThis session is part of our Tech to Transformation: Building Better Webinar Series\, where we spotlight a standout company delivering a full-length presentation that offers deeper insight into technologies transforming the built environment. \n			\n				Register Here
URL:https://builtenvironmentplus.org/event/btf-webinar-lilypad-material-technology-with-adept-materials-11-14/
CATEGORIES:Building Performance Exchange,Courses
ATTACH;FMTTYPE=image/jpeg:https://builtenvironmentplus.org/wp-content/uploads/2025/09/Smarter-Moisture-Management-for-Healthier-More-Durable-Buildings-with-Adept-Materials.jpg
END:VEVENT
END:VCALENDAR