BEGIN:VCALENDAR
VERSION:2.0
PRODID:-//Built Environment Plus - ECPv6.15.20//NONSGML v1.0//EN
CALSCALE:GREGORIAN
METHOD:PUBLISH
X-ORIGINAL-URL:https://builtenvironmentplus.org
X-WR-CALDESC:Events for Built Environment Plus
REFRESH-INTERVAL;VALUE=DURATION:PT1H
X-Robots-Tag:noindex
X-PUBLISHED-TTL:PT1H
BEGIN:VTIMEZONE
TZID:America/New_York
BEGIN:DAYLIGHT
TZOFFSETFROM:-0500
TZOFFSETTO:-0400
TZNAME:EDT
DTSTART:20240310T070000
END:DAYLIGHT
BEGIN:STANDARD
TZOFFSETFROM:-0400
TZOFFSETTO:-0500
TZNAME:EST
DTSTART:20241103T060000
END:STANDARD
BEGIN:DAYLIGHT
TZOFFSETFROM:-0500
TZOFFSETTO:-0400
TZNAME:EDT
DTSTART:20250309T070000
END:DAYLIGHT
BEGIN:STANDARD
TZOFFSETFROM:-0400
TZOFFSETTO:-0500
TZNAME:EST
DTSTART:20251102T060000
END:STANDARD
BEGIN:DAYLIGHT
TZOFFSETFROM:-0500
TZOFFSETTO:-0400
TZNAME:EDT
DTSTART:20260308T070000
END:DAYLIGHT
BEGIN:STANDARD
TZOFFSETFROM:-0400
TZOFFSETTO:-0500
TZNAME:EST
DTSTART:20261101T060000
END:STANDARD
END:VTIMEZONE
BEGIN:VEVENT
DTSTART;TZID=America/New_York:20251113T120000
DTEND;TZID=America/New_York:20251113T140000
DTSTAMP:20260421T094851
CREATED:20250804T201616Z
LAST-MODIFIED:20251003T133651Z
UID:10002194-1763035200-1763042400@builtenvironmentplus.org
SUMMARY:Specifying Healthier Materials Beyond Checking Boxes
DESCRIPTION:Photo credit: designLAB architects\n			\n				Learn About the Series\n			\n			\n				\n				\n				\n				\n			\n				\n				\n				\n				\n				\n				\n				\n				\n				\n				\n				About the TrainingSpecifying materials that meet LEED v4 and v4.1 requirements has gotten easier. However\, many projects stop at just meeting these requirements\, when we could be doing much better. The course will provide information on specifying products and materials that are Living Building Challenge red list free\, avoiding chemicals of concern from the Six Classes\, specifying products with transparency labels\, and finding healthier products through third-party certifications and publicly available databases. This course is intended for building industry professionals. It can be held virtually or in-person and is a combination of presentation and discussion. \nThis is the seventh session of the Materials Matter: Embodied Carbon & The Path to Healthier Buildings training series. Join the series to explore the connections between climate\, human health\, and the circular economy—transforming the way we design and build for a better future. \nRefund PolicyFull refunds are available only if written notice is provided 7 days prior to course start date. There will be no refund if less than one week’s notice is given. Please note: Full refunds will be issued less the standard processing fee. In general\, rescheduling is always preferred over refunds. Registration transfers are only allowed for rescheduling to a future training and cannot be transferred between individuals. \nThis training is eligible for 2 AIA LU / HSW continuing education credits. AIA membership information will be collected from attendees by BE+ during the training. \nThis is a live\, online training led by Lisa Goodwin Robbins with Kalin Associates\, and Carrie Havey with The Green Engineer. \n			\n			\n				\n				\n				\n				\n			\n				\n				\n				\n				\n				\n				\n				\n				\n				\n				\n				\n			\n			\n				\n				\n				\n				\n				\n				\n				\n				\n				\n				Carrie Havey\, LEED Fellow\, has been with The Green Engineer since 2010. Carrie’s expertise resides in facilitating workshops and collaborating with project teams to provide sustainable design advice and LEED guidance at every stage of a project. She is skilled in overseeing projects that need to meet sustainable design regulatory requirements\, such as MSBA or Article 37 in Boston. She has experience on a wide range of project types\, including higher education facilities\, k-12 schools\, labs\, multi-family residential\, municipal buildings\, and commercial interiors. \n			\n			\n				\n				\n				\n				\n			\n				\n				\n				\n				\n				\n				\n				\n				\n				\n				\n				\n			\n			\n				\n				\n				\n				\n				\n				\n				\n				\n				\n				Lisa Goodwin Robbins\, RA\, CCS\, LEED\, is a registered architect\, CSI-certified construction specifier\, and LEED-accredited professional with more than 20 years experience in specification writing\, with a focus on projects seeking LBC\, LEED\, and WELL certifications. She helps other Architects\, both designer types and project managers\, be green\, solve problems\, and get their projects built. \n			\n			\n				\n				\n				\n				\n			\n				\n				\n				\n				\n				\n				\n				\n				\n				\n				\n				Learning Objectives\n				1. Articulate the value of using healthier materials and educate clients and team members about healthier materials goals. 2. Prioritize healthier materials’ importance to you\, your firm\, and your owners.3. Optimize product searching and product selection using databases and the Common Materials Framework.  4. Translate sustainability goals into specification language. \n			\n				\n				\n				\n				\n				Funding Grants Available: Submit by October 23rd\, 2025\n				The Express Grant is designed to help businesses respond quickly to emerging needs and keep employees engaged. With bite-size grants for just-in-time training and no waiting periods between grants\, the Express program is the Workforce Training Fund’s fastest path to funding.You could take this training for FREE. Complete an Express Grant Application. \nCourse ID#: C-9006Course Provider: Built Environment PlusCourse Cost: $175 per course per trainee \nExpress Grant Eligibility \nEmployers with 100 or fewer Massachusetts\, W-2 employees are eligible to receive Express Program grants. Express Program grant applications must be submitted no fewer than 21 days before the training date. The following documentation is required to apply: \nSigned Form W-9Certificate of Good Standing (COGS) from the Massachusetts Department of Revenue\, dated within 6 months from the date of application submissionCertificate of Compliance from the Massachusetts Department of Unemployment Assistance (DUA) that is not expired on the date of application submission \nThe contracting period of approved Express Grants begins 21 days after the grant application date and ends one year from this date. All training must be completed within the contract period to be eligible for reimbursement.
URL:https://builtenvironmentplus.org/event/specifying-healthier-materials-beyond-checking-boxes-11-13/
LOCATION:Virtual Event
CATEGORIES:Courses,Materials Matter 2025
ATTACH;FMTTYPE=image/jpeg:https://builtenvironmentplus.org/wp-content/uploads/2025/07/Specifying-Healthier-Materials-Beyond-Checking-Boxes0D0A.jpg
END:VEVENT
END:VCALENDAR